BEGIN:VCALENDAR
VERSION:2.0
METHOD:PUBLISH
CALSCALE:GREGORIAN
BEGIN:VEVENT
UID:2de1ee26-2106-4ea2-89eb-57eb82e11f9c
SEQUENCE:0
CLASS:PUBLIC
PRIORITY:5
DTSTAMP:20260422T180507Z
CREATED:20260422T180507Z
DTSTART:20241031T160000Z
SUMMARY:08 Crémation de Marie-Claude, Arlette HELLEY
LOCATION:175 avenue des Fortes Terres, Crématorium de l'Arche, 77100, MAREUIL LES MEAUX
BEGIN:VALARM
TRIGGER:-PT30M
ACTION:DISPLAY
DESCRIPTION:Reminder
END:VALARM
END:VEVENT
END:VCALENDAR
