BEGIN:VCALENDAR
VERSION:2.0
METHOD:PUBLISH
CALSCALE:GREGORIAN
BEGIN:VEVENT
UID:e0b3638a-a1d7-4fd9-b107-5d8db830ad94
SEQUENCE:0
CLASS:PUBLIC
PRIORITY:5
DTSTAMP:20260423T183712Z
CREATED:20260423T183712Z
DTSTART:20241105T143000Z
SUMMARY:Service religieux de Marie-Thérèse, Louise, Nicole COUILLET
LOCATION:Eglise de FRESSENNEVILLE, 80390, FRESSENNEVILLE
BEGIN:VALARM
TRIGGER:-PT30M
ACTION:DISPLAY
DESCRIPTION:Reminder
END:VALARM
END:VEVENT
END:VCALENDAR
