BEGIN:VCALENDAR
VERSION:2.0
METHOD:PUBLISH
CALSCALE:GREGORIAN
BEGIN:VEVENT
UID:38c90e57-774e-4c76-ba04-7dd3ab599987
SEQUENCE:0
CLASS:PUBLIC
PRIORITY:5
DTSTAMP:20260424T115905Z
CREATED:20260424T115905Z
DTSTART:20241105T154500Z
SUMMARY:Inhumation de Marie-Thérèse, Louise, Nicole COUILLET
LOCATION:Cimetière de FRESSENNEVILLE, 80390, FRESSENNEVILLE
BEGIN:VALARM
TRIGGER:-PT30M
ACTION:DISPLAY
DESCRIPTION:Reminder
END:VALARM
END:VEVENT
END:VCALENDAR
