BEGIN:VCALENDAR
VERSION:2.0
METHOD:PUBLISH
CALSCALE:GREGORIAN
BEGIN:VEVENT
UID:a475e5d1-af0c-4ccf-969d-038dc69b25d2
SEQUENCE:0
CLASS:PUBLIC
PRIORITY:5
DTSTAMP:20260424T102908Z
CREATED:20260424T102908Z
DTSTART:20241119T100000Z
SUMMARY:Service civil de Pierre-Marie, Romano PANÉRO
LOCATION:ZAC des monts et Vallées, Crématorium du TALOU, 76510, ST NICOLAS D'ALIERMONT
BEGIN:VALARM
TRIGGER:-PT30M
ACTION:DISPLAY
DESCRIPTION:Reminder
END:VALARM
END:VEVENT
END:VCALENDAR
