BEGIN:VCALENDAR
VERSION:2.0
METHOD:PUBLISH
CALSCALE:GREGORIAN
BEGIN:VEVENT
UID:747667ea-7908-4704-84f5-c96d7c6de361
SEQUENCE:0
CLASS:PUBLIC
PRIORITY:5
DTSTAMP:20260424T224453Z
CREATED:20260424T224453Z
DTSTART:20241119T103000Z
SUMMARY:Crémation de Pierre-Marie, Romano PANÉRO
LOCATION:ZAC des monts et Vallées, Crématorium du TALOU, 76510, ST NICOLAS D'ALIERMONT
BEGIN:VALARM
TRIGGER:-PT30M
ACTION:DISPLAY
DESCRIPTION:Reminder
END:VALARM
END:VEVENT
END:VCALENDAR
