BEGIN:VCALENDAR
VERSION:2.0
METHOD:PUBLISH
CALSCALE:GREGORIAN
BEGIN:VEVENT
UID:dff1c748-582d-41c8-a26e-cec198a8b6e1
SEQUENCE:0
CLASS:PUBLIC
PRIORITY:5
DTSTAMP:20260423T183841Z
CREATED:20260423T183841Z
DTSTART:20241108T143000Z
SUMMARY:Cérémonie Religieuse de Henri Marie Michel DE VILLENEUVE
LOCATION:EGLISE ST MICHEL DE RIEUFRET , 33720 , SAINT-MICHEL-DE-RIEUFRET , France
BEGIN:VALARM
TRIGGER:-PT30M
ACTION:DISPLAY
DESCRIPTION:Reminder
END:VALARM
END:VEVENT
END:VCALENDAR
