BEGIN:VCALENDAR
VERSION:2.0
METHOD:PUBLISH
CALSCALE:GREGORIAN
BEGIN:VEVENT
UID:d1f6ab72-0a37-466f-9360-e1361ef1ddbf
SEQUENCE:0
CLASS:PUBLIC
PRIORITY:5
DTSTAMP:20260423T155018Z
CREATED:20260423T155018Z
DTSTART:20241108T163000Z
SUMMARY:Inhumation de Henri Marie Michel DE VILLENEUVE
LOCATION:CIMETIERE DE ST-SELVE , France
BEGIN:VALARM
TRIGGER:-PT30M
ACTION:DISPLAY
DESCRIPTION:Reminder
END:VALARM
END:VEVENT
END:VCALENDAR
