BEGIN:VCALENDAR
VERSION:2.0
METHOD:PUBLISH
CALSCALE:GREGORIAN
BEGIN:VEVENT
UID:e45986f1-3e54-4df0-aa5e-bb03d1025951
SEQUENCE:0
CLASS:PUBLIC
PRIORITY:5
DTSTAMP:20260425T032100Z
CREATED:20260425T032100Z
DTSTART:20241121T143000Z
SUMMARY:Service religieux de Monique, Suzanne, Louise ACOULON
LOCATION:Eglise de TULLY, 80130, TULLY
BEGIN:VALARM
TRIGGER:-PT30M
ACTION:DISPLAY
DESCRIPTION:Reminder
END:VALARM
END:VEVENT
END:VCALENDAR
