BEGIN:VCALENDAR
VERSION:2.0
METHOD:PUBLISH
CALSCALE:GREGORIAN
BEGIN:VEVENT
UID:cd6fe80b-ba75-4e0b-b880-224f6d3ef9c1
SEQUENCE:0
CLASS:PUBLIC
PRIORITY:5
DTSTAMP:20260423T142905Z
CREATED:20260423T142905Z
DTSTART:20241121T154500Z
SUMMARY:Inhumation de Monique, Suzanne, Louise ACOULON
LOCATION:rue de l'égalité, Cimetière de TULLY, 80130, TULLY
BEGIN:VALARM
TRIGGER:-PT30M
ACTION:DISPLAY
DESCRIPTION:Reminder
END:VALARM
END:VEVENT
END:VCALENDAR
