BEGIN:VCALENDAR
VERSION:2.0
METHOD:PUBLISH
CALSCALE:GREGORIAN
BEGIN:VEVENT
UID:f6dae922-e428-4873-9e9a-a557123acbf4
SEQUENCE:0
CLASS:PUBLIC
PRIORITY:5
DTSTAMP:20260424T155942Z
CREATED:20260424T155942Z
DTSTART:20250105T100000Z
DTEND:20250102T180000Z
SUMMARY:Visites du Dimanche 05 Janvier 2024 de Monique FAGET
LOCATION:Funérarium du Marensin, 10 rue Jean-Baptiste LESBATS, 40550, LEON
BEGIN:VALARM
TRIGGER:-PT30M
ACTION:DISPLAY
DESCRIPTION:Reminder
END:VALARM
END:VEVENT
END:VCALENDAR
