BEGIN:VCALENDAR
VERSION:2.0
METHOD:PUBLISH
CALSCALE:GREGORIAN
BEGIN:VEVENT
UID:a8b2d3ca-6310-4abf-b332-407b5def89a1
SEQUENCE:0
CLASS:PUBLIC
PRIORITY:5
DTSTAMP:20260424T155947Z
CREATED:20260424T155947Z
DTSTART:20250106T170000Z
DTEND:20250102T173000Z
SUMMARY:Moment de recueillement de Monique FAGET
LOCATION:Crématorium, 646 avenue CANENX, 40000, MONT DE MARSAN
BEGIN:VALARM
TRIGGER:-PT30M
ACTION:DISPLAY
DESCRIPTION:Reminder
END:VALARM
END:VEVENT
END:VCALENDAR
