BEGIN:VCALENDAR
VERSION:2.0
METHOD:PUBLISH
CALSCALE:GREGORIAN
BEGIN:VEVENT
UID:e6f98a2a-5fcd-436e-a7cf-b6f2002cfff5
SEQUENCE:0
CLASS:PUBLIC
PRIORITY:5
DTSTAMP:20260423T064622Z
CREATED:20260423T064622Z
DTSTART:20250113T103000Z
SUMMARY:Cérémonie Religieuse de Simone TALBOT
BEGIN:VALARM
TRIGGER:-PT30M
ACTION:DISPLAY
DESCRIPTION:Reminder
END:VALARM
END:VEVENT
END:VCALENDAR
