BEGIN:VCALENDAR
VERSION:2.0
METHOD:PUBLISH
CALSCALE:GREGORIAN
BEGIN:VEVENT
UID:dfbcc969-1160-4af4-810b-13491951afde
SEQUENCE:0
CLASS:PUBLIC
PRIORITY:5
DTSTAMP:20260423T200308Z
CREATED:20260423T200308Z
DTSTART:20250224T113000Z
SUMMARY:Cérémonie Civile de Jeanne REGAMAY
LOCATION:CRÉMATORIUM DE TREBES Z.A DE SAUTES , Rue du commerce , 11800 , TREBES , France
BEGIN:VALARM
TRIGGER:-PT30M
ACTION:DISPLAY
DESCRIPTION:Reminder
END:VALARM
END:VEVENT
END:VCALENDAR
