BEGIN:VCALENDAR
VERSION:2.0
METHOD:PUBLISH
CALSCALE:GREGORIAN
BEGIN:VEVENT
UID:087cc3d4-fc58-45c9-96a6-727b57ba58e9
SEQUENCE:0
CLASS:PUBLIC
PRIORITY:5
DTSTAMP:20260423T154927Z
CREATED:20260423T154927Z
DTSTART:20250308T150000Z
SUMMARY:Cérémonie Religieuse de Jacqueline PERROT
LOCATION:ÉGLISE DE CAUNES MINERVOIS , 11160 , CAUNES-MINERVOIS , France
BEGIN:VALARM
TRIGGER:-PT30M
ACTION:DISPLAY
DESCRIPTION:Reminder
END:VALARM
END:VEVENT
END:VCALENDAR
