BEGIN:VCALENDAR
VERSION:2.0
METHOD:PUBLISH
CALSCALE:GREGORIAN
BEGIN:VEVENT
UID:6b77b004-0052-4c46-958b-41b95bf70f21
SEQUENCE:0
CLASS:PUBLIC
PRIORITY:5
DTSTAMP:20260423T154932Z
CREATED:20260423T154932Z
DTSTART:20250308T160000Z
SUMMARY:Inhumation de Jacqueline PERROT
LOCATION:CIMETIERE DE CAUNES MINERVOIS , 11160 , CAUNES-MINERVOIS , France
BEGIN:VALARM
TRIGGER:-PT30M
ACTION:DISPLAY
DESCRIPTION:Reminder
END:VALARM
END:VEVENT
END:VCALENDAR
