BEGIN:VCALENDAR
VERSION:2.0
METHOD:PUBLISH
CALSCALE:GREGORIAN
BEGIN:VEVENT
UID:765c80dc-948b-4897-af8d-e5f576b1e183
SEQUENCE:0
CLASS:PUBLIC
PRIORITY:5
DTSTAMP:20260421T193010Z
CREATED:20260421T193010Z
DTSTART:20250304T000000Z
SUMMARY:Présentation en salon de Daniel LECHAUVE
LOCATION:FUNERARIUM DE LOCMINE , France
BEGIN:VALARM
TRIGGER:-PT30M
ACTION:DISPLAY
DESCRIPTION:Reminder
END:VALARM
END:VEVENT
END:VCALENDAR
