BEGIN:VCALENDAR
VERSION:2.0
METHOD:PUBLISH
CALSCALE:GREGORIAN
BEGIN:VEVENT
UID:36f90c5a-79de-4f55-80ae-be95f7582f49
SEQUENCE:0
CLASS:PUBLIC
PRIORITY:5
DTSTAMP:20260421T193012Z
CREATED:20260421T193012Z
DTSTART:20250308T123000Z
SUMMARY:Crémation de Daniel LECHAUVE
LOCATION:CREMATORIUM DE NOYAL PONTIVY Le Burenno , 56920 , NOYAL - PONTIVY , France
BEGIN:VALARM
TRIGGER:-PT30M
ACTION:DISPLAY
DESCRIPTION:Reminder
END:VALARM
END:VEVENT
END:VCALENDAR
