BEGIN:VCALENDAR
VERSION:2.0
METHOD:PUBLISH
CALSCALE:GREGORIAN
BEGIN:VEVENT
UID:8b41451e-cafd-475d-92c1-d8321e58291e
SEQUENCE:0
CLASS:PUBLIC
PRIORITY:5
DTSTAMP:20260423T115051Z
CREATED:20260423T115051Z
DTSTART:20250328T100000Z
DTEND:20250325T115600Z
SUMMARY:Cérémonie Religieuse de Jacques GATEAUX
LOCATION:Eglise de Vadencourt, 02120, VADENCOURT
BEGIN:VALARM
TRIGGER:-PT30M
ACTION:DISPLAY
DESCRIPTION:Reminder
END:VALARM
END:VEVENT
END:VCALENDAR
