BEGIN:VCALENDAR
VERSION:2.0
METHOD:PUBLISH
CALSCALE:GREGORIAN
BEGIN:VEVENT
UID:05f57c37-3e1f-4134-bf63-b26716a25f6e
SEQUENCE:0
CLASS:PUBLIC
PRIORITY:5
DTSTAMP:20260423T115046Z
CREATED:20260423T115046Z
DTSTART:20250328T110000Z
DTEND:20250325T115700Z
SUMMARY:Inhumation de Jacques GATEAUX
LOCATION:Cimetière, 02120, VADENCOURT
BEGIN:VALARM
TRIGGER:-PT30M
ACTION:DISPLAY
DESCRIPTION:Reminder
END:VALARM
END:VEVENT
END:VCALENDAR
