BEGIN:VCALENDAR
VERSION:2.0
METHOD:PUBLISH
CALSCALE:GREGORIAN
BEGIN:VEVENT
UID:0a65b95a-4e51-496a-b8a8-2c8a88b6024b
SEQUENCE:0
CLASS:PUBLIC
PRIORITY:5
DTSTAMP:20260421T193114Z
CREATED:20260421T193114Z
DTSTART:20250408T100000Z
SUMMARY:Service civil de Gérard LAROCHE
LOCATION:ZAC des monts et Vallées, Crématorium du TALOU, 76510, ST NICOLAS D'ALIERMONT
BEGIN:VALARM
TRIGGER:-PT30M
ACTION:DISPLAY
DESCRIPTION:Reminder
END:VALARM
END:VEVENT
END:VCALENDAR
