BEGIN:VCALENDAR
VERSION:2.0
METHOD:PUBLISH
CALSCALE:GREGORIAN
BEGIN:VEVENT
UID:5f23d075-5461-4729-b325-67d4d1b086fc
SEQUENCE:0
CLASS:PUBLIC
PRIORITY:5
DTSTAMP:20260421T193106Z
CREATED:20260421T193106Z
DTSTART:20250408T103000Z
SUMMARY:Crémation de Gérard LAROCHE
LOCATION:ZAC des monts et Vallées, Crématorium du TALOU, 76510, ST NICOLAS D'ALIERMONT
BEGIN:VALARM
TRIGGER:-PT30M
ACTION:DISPLAY
DESCRIPTION:Reminder
END:VALARM
END:VEVENT
END:VCALENDAR
