BEGIN:VCALENDAR
VERSION:2.0
METHOD:PUBLISH
CALSCALE:GREGORIAN
BEGIN:VEVENT
UID:bf03765e-e471-463e-9181-0e7f2847c567
SEQUENCE:0
CLASS:PUBLIC
PRIORITY:5
DTSTAMP:20260423T170730Z
CREATED:20260423T170730Z
DTSTART:20250418T143000Z
DTEND:20250414T020000Z
SUMMARY:FERMETURE DU CERCUEIL CASTELNAU LE LEZ de Claude, Hélène, Monique Hagens 
LOCATION:586 avenue de l'Europe ( face arrêt le Clairval tram ligne 2 ), 34170, CASTELNAU LE LEZ
BEGIN:VALARM
TRIGGER:-PT30M
ACTION:DISPLAY
DESCRIPTION:Reminder
END:VALARM
END:VEVENT
END:VCALENDAR
