BEGIN:VCALENDAR
VERSION:2.0
METHOD:PUBLISH
CALSCALE:GREGORIAN
BEGIN:VEVENT
UID:50318701-1368-45e2-b202-bf7a423a679d
SEQUENCE:0
CLASS:PUBLIC
PRIORITY:5
DTSTAMP:20260422T191659Z
CREATED:20260422T191659Z
DTSTART:20250418T153000Z
SUMMARY:Inhumation de Patrick MEREAUX
LOCATION:Cimetière de Guise, 02120, GUISE, FR
BEGIN:VALARM
TRIGGER:-PT30M
ACTION:DISPLAY
DESCRIPTION:Reminder
END:VALARM
END:VEVENT
END:VCALENDAR
