BEGIN:VCALENDAR
VERSION:2.0
METHOD:PUBLISH
CALSCALE:GREGORIAN
BEGIN:VEVENT
UID:ce8039be-b3e0-4ffc-b971-5bb064154f01
SEQUENCE:0
CLASS:PUBLIC
PRIORITY:5
DTSTAMP:20260421T165356Z
CREATED:20260421T165356Z
DTSTART:20250831T080000Z
DTEND:20250831T020000Z
SUMMARY:VISITES CHAMBRE FUNERAIRE CASTELNAU LE LEZ de Paulette Quignard
LOCATION:586 avenue de l'Europe ( face arrêt le Clairval tram ligne 2 ), 34170, CASTELNAU LE LEZ
BEGIN:VALARM
TRIGGER:-PT30M
ACTION:DISPLAY
DESCRIPTION:Reminder
END:VALARM
END:VEVENT
END:VCALENDAR
