BEGIN:VCALENDAR
VERSION:2.0
METHOD:PUBLISH
CALSCALE:GREGORIAN
BEGIN:VEVENT
UID:19f6f899-80f5-4241-bde4-c91732fea31b
SEQUENCE:0
CLASS:PUBLIC
PRIORITY:5
DTSTAMP:20260421T193006Z
CREATED:20260421T193006Z
DTSTART:20250902T141500Z
DTEND:20250831T081200Z
SUMMARY:FERMETURE DU CERCUEIL  de Paulette Quignard
LOCATION:586 avenue de l'Europe ( face arrêt le Clairval tram ligne 2 ), 34170, CASTELNAU LE LEZ
BEGIN:VALARM
TRIGGER:-PT30M
ACTION:DISPLAY
DESCRIPTION:Reminder
END:VALARM
END:VEVENT
END:VCALENDAR
