BEGIN:VCALENDAR
VERSION:2.0
METHOD:PUBLISH
CALSCALE:GREGORIAN
BEGIN:VEVENT
UID:b9e23538-dcbb-44e8-97bf-d210d5b403cd
SEQUENCE:0
CLASS:PUBLIC
PRIORITY:5
DTSTAMP:20260421T165358Z
CREATED:20260421T165358Z
DTSTART:20250902T150000Z
DTEND:20250831T020000Z
SUMMARY:RECUEILLEMENT SUIVI DE L'INHUMATION de Paulette Quignard
LOCATION:Cimetière du Champ Juvénal, 34170, CASTELNAU LE LEZ
BEGIN:VALARM
TRIGGER:-PT30M
ACTION:DISPLAY
DESCRIPTION:Reminder
END:VALARM
END:VEVENT
END:VCALENDAR
