BEGIN:VCALENDAR
VERSION:2.0
METHOD:PUBLISH
CALSCALE:GREGORIAN
BEGIN:VEVENT
UID:ca83f0f4-6711-498c-85c8-8dd4d32fe399
SEQUENCE:0
CLASS:PUBLIC
PRIORITY:5
DTSTAMP:20260424T155957Z
CREATED:20260424T155957Z
DTSTART:20250905T143000Z
SUMMARY:Service religieux de Suzanne CHOMET
LOCATION:rue du Maréchal Foch, Eglise de CAYEUX SUR MER, 80410, CAYEUX SUR MER
BEGIN:VALARM
TRIGGER:-PT30M
ACTION:DISPLAY
DESCRIPTION:Reminder
END:VALARM
END:VEVENT
END:VCALENDAR
