BEGIN:VCALENDAR
VERSION:2.0
METHOD:PUBLISH
CALSCALE:GREGORIAN
BEGIN:VEVENT
UID:7f7937ea-0597-4727-977e-dad40a3c1832
SEQUENCE:0
CLASS:PUBLIC
PRIORITY:5
DTSTAMP:20260425T165357Z
CREATED:20260425T165357Z
DTSTART:20250905T154500Z
SUMMARY:Inhumation de Suzanne CHOMET
LOCATION:Cimetière de CAYEUX SUR MER, 80410, CAYEUX SUR MER
BEGIN:VALARM
TRIGGER:-PT30M
ACTION:DISPLAY
DESCRIPTION:Reminder
END:VALARM
END:VEVENT
END:VCALENDAR
