BEGIN:VCALENDAR
VERSION:2.0
METHOD:PUBLISH
CALSCALE:GREGORIAN
BEGIN:VEVENT
UID:7b12f336-0fe2-45bb-b28d-3e2259a3115d
SEQUENCE:0
CLASS:PUBLIC
PRIORITY:5
DTSTAMP:20260421T193003Z
CREATED:20260421T193003Z
DTSTART:20250905T150000Z
DTEND:20250905T180600Z
SUMMARY:Cérémonie Religieuse de Nicole CLERET
LOCATION:FRIAUCOURT
BEGIN:VALARM
TRIGGER:-PT30M
ACTION:DISPLAY
DESCRIPTION:Reminder
END:VALARM
END:VEVENT
END:VCALENDAR
