BEGIN:VCALENDAR
VERSION:2.0
METHOD:PUBLISH
CALSCALE:GREGORIAN
BEGIN:VEVENT
UID:0c0874c0-692c-45be-a949-ff0781b4c0cc
SEQUENCE:0
CLASS:PUBLIC
PRIORITY:5
DTSTAMP:20260421T193003Z
CREATED:20260421T193003Z
DTSTART:20250910T150000Z
DTEND:20250905T180600Z
SUMMARY:Cérémonie Religieuse de Nicole CLERET
LOCATION:FRIAUCOURT
BEGIN:VALARM
TRIGGER:-PT30M
ACTION:DISPLAY
DESCRIPTION:Reminder
END:VALARM
END:VEVENT
END:VCALENDAR
