BEGIN:VCALENDAR
VERSION:2.0
METHOD:PUBLISH
CALSCALE:GREGORIAN
BEGIN:VEVENT
UID:781d5c57-bb98-4ccd-aa5e-8fbb858377b3
SEQUENCE:0
CLASS:PUBLIC
PRIORITY:5
DTSTAMP:20260421T210205Z
CREATED:20260421T210205Z
DTSTART:20251009T153000Z
SUMMARY:Cérémonie Civile de Jacqueline TURCINSKI
LOCATION:CRÉMATORIUM DE TREBES Z.A DE SAUTES , Rue du commerce , 11800 , TREBES , France
BEGIN:VALARM
TRIGGER:-PT30M
ACTION:DISPLAY
DESCRIPTION:Reminder
END:VALARM
END:VEVENT
END:VCALENDAR
