BEGIN:VCALENDAR
VERSION:2.0
METHOD:PUBLISH
CALSCALE:GREGORIAN
BEGIN:VEVENT
UID:bf6bd8c9-e960-41be-b776-a24c9dcd38c4
SEQUENCE:0
CLASS:PUBLIC
PRIORITY:5
DTSTAMP:20260421T210215Z
CREATED:20260421T210215Z
DTSTART:20251009T160000Z
SUMMARY:Crémation de Jacqueline TURCINSKI
LOCATION:CRÉMATORIUM DE TREBES Z.A DE SAUTES , Rue du commerce , 11800 , TREBES , France
BEGIN:VALARM
TRIGGER:-PT30M
ACTION:DISPLAY
DESCRIPTION:Reminder
END:VALARM
END:VEVENT
END:VCALENDAR
