BEGIN:VCALENDAR
VERSION:2.0
METHOD:PUBLISH
CALSCALE:GREGORIAN
BEGIN:VEVENT
UID:2f3be0ff-75d6-4ccb-9941-3d1b8c91f159
SEQUENCE:0
CLASS:PUBLIC
PRIORITY:5
DTSTAMP:20260424T013747Z
CREATED:20260424T013747Z
DTSTART:20251015T143000Z
SUMMARY:Service religieux de Guy COURVALET
LOCATION:Eglise de BETHENCOURT SUR MER, 80130, BETHENCOURT SUR MER
BEGIN:VALARM
TRIGGER:-PT30M
ACTION:DISPLAY
DESCRIPTION:Reminder
END:VALARM
END:VEVENT
END:VCALENDAR
