BEGIN:VCALENDAR
VERSION:2.0
METHOD:PUBLISH
CALSCALE:GREGORIAN
BEGIN:VEVENT
UID:adb01763-9624-4868-a24c-8c0c047b8327
SEQUENCE:0
CLASS:PUBLIC
PRIORITY:5
DTSTAMP:20260423T170655Z
CREATED:20260423T170655Z
DTSTART:20251015T160000Z
SUMMARY:Inhumation de Guy COURVALET
LOCATION:Cimetière de BETHENCOURT SUR MER, 80130, BETHENCOURT SUR MER
BEGIN:VALARM
TRIGGER:-PT30M
ACTION:DISPLAY
DESCRIPTION:Reminder
END:VALARM
END:VEVENT
END:VCALENDAR
