BEGIN:VCALENDAR
VERSION:2.0
METHOD:PUBLISH
CALSCALE:GREGORIAN
BEGIN:VEVENT
UID:c4578b51-44c9-4b1b-954e-eba6233ad610
SEQUENCE:0
CLASS:PUBLIC
PRIORITY:5
DTSTAMP:20260421T193004Z
CREATED:20260421T193004Z
DTSTART:20251015T100000Z
SUMMARY:Cérémonie Civile de Jacques CLERIS
LOCATION:CIMETIÈRE LA CONTE Avenue du Maréchal JUIN , 11000 , CARCASSONNE , France
BEGIN:VALARM
TRIGGER:-PT30M
ACTION:DISPLAY
DESCRIPTION:Reminder
END:VALARM
END:VEVENT
END:VCALENDAR
