BEGIN:VCALENDAR
VERSION:2.0
METHOD:PUBLISH
CALSCALE:GREGORIAN
BEGIN:VEVENT
UID:e3bf6b3d-d6fc-44b3-8102-e4c210e76c0d
SEQUENCE:0
CLASS:PUBLIC
PRIORITY:5
DTSTAMP:20260421T193059Z
CREATED:20260421T193059Z
DTSTART:20251015T103000Z
SUMMARY:Inhumation de Jacques CLERIS
LOCATION:CIMETIÈRE LA CONTE Avenue du Maréchal JUIN , 11000 , CARCASSONNE , France
BEGIN:VALARM
TRIGGER:-PT30M
ACTION:DISPLAY
DESCRIPTION:Reminder
END:VALARM
END:VEVENT
END:VCALENDAR
