BEGIN:VCALENDAR
VERSION:2.0
METHOD:PUBLISH
CALSCALE:GREGORIAN
BEGIN:VEVENT
UID:d06c0da6-20e8-424d-bad4-9778daa0458c
SEQUENCE:0
CLASS:PUBLIC
PRIORITY:5
DTSTAMP:20260421T165337Z
CREATED:20260421T165337Z
DTSTART:20251016T140000Z
DTEND:20251013T183000Z
SUMMARY:Cérémonie  de Robert FOISSEY
LOCATION:EGLISE, 52150, GONCOURT
BEGIN:VALARM
TRIGGER:-PT30M
ACTION:DISPLAY
DESCRIPTION:Reminder
END:VALARM
END:VEVENT
END:VCALENDAR
