BEGIN:VCALENDAR
VERSION:2.0
METHOD:PUBLISH
CALSCALE:GREGORIAN
BEGIN:VEVENT
UID:4b33293b-f05b-4438-be14-ad4098829d1f
SEQUENCE:0
CLASS:PUBLIC
PRIORITY:5
DTSTAMP:20260421T210220Z
CREATED:20260421T210220Z
DTSTART:20251016T143000Z
SUMMARY:Cérémonie Religieuse de Josette LAUGLANEY
BEGIN:VALARM
TRIGGER:-PT30M
ACTION:DISPLAY
DESCRIPTION:Reminder
END:VALARM
END:VEVENT
END:VCALENDAR
