BEGIN:VCALENDAR
VERSION:2.0
METHOD:PUBLISH
CALSCALE:GREGORIAN
BEGIN:VEVENT
UID:1933b591-48a8-497b-9b52-6ed355e72dc2
SEQUENCE:0
CLASS:PUBLIC
PRIORITY:5
DTSTAMP:20260421T210155Z
CREATED:20260421T210155Z
DTSTART:20251016T170000Z
SUMMARY:Crémation de Josette LAUGLANEY
LOCATION:Crématorium de Lafox lieu-dit: "Saint Christophe" , 47240 , LAFOX , France
BEGIN:VALARM
TRIGGER:-PT30M
ACTION:DISPLAY
DESCRIPTION:Reminder
END:VALARM
END:VEVENT
END:VCALENDAR
