BEGIN:VCALENDAR
VERSION:2.0
METHOD:PUBLISH
CALSCALE:GREGORIAN
BEGIN:VEVENT
UID:2c1c5e40-9bb6-40e9-bb36-01a82934ab5f
SEQUENCE:0
CLASS:PUBLIC
PRIORITY:5
DTSTAMP:20260424T013812Z
CREATED:20260424T013812Z
DTSTART:20251014T000000Z
SUMMARY:Présentation en salon de Jacques Roger FRATE
LOCATION:CHAMBRE FUNERAIRE CASTELCULIER ZA de la Tuque , 47240 , CASTELCULIER , France
BEGIN:VALARM
TRIGGER:-PT30M
ACTION:DISPLAY
DESCRIPTION:Reminder
END:VALARM
END:VEVENT
END:VCALENDAR
