BEGIN:VCALENDAR
VERSION:2.0
METHOD:PUBLISH
CALSCALE:GREGORIAN
BEGIN:VEVENT
UID:275a040a-a9ff-4d02-9d40-a68777f220bf
SEQUENCE:0
CLASS:PUBLIC
PRIORITY:5
DTSTAMP:20260423T200313Z
CREATED:20260423T200313Z
DTSTART:20251017T153000Z
SUMMARY:Cérémonie Civile de Jacques Roger FRATE
LOCATION:Crématorium de Lafox lieu-dit: "Saint Christophe" , 47240 , LAFOX , France
BEGIN:VALARM
TRIGGER:-PT30M
ACTION:DISPLAY
DESCRIPTION:Reminder
END:VALARM
END:VEVENT
END:VCALENDAR
