BEGIN:VCALENDAR
VERSION:2.0
METHOD:PUBLISH
CALSCALE:GREGORIAN
BEGIN:VEVENT
UID:c03939cd-8fb1-4400-b063-779a46689054
SEQUENCE:0
CLASS:PUBLIC
PRIORITY:5
DTSTAMP:20260424T115900Z
CREATED:20260424T115900Z
DTSTART:20251017T160000Z
SUMMARY:Crémation de Jacques Roger FRATE
LOCATION:Crématorium de Lafox lieu-dit: "Saint Christophe" , 47240 , LAFOX , France
BEGIN:VALARM
TRIGGER:-PT30M
ACTION:DISPLAY
DESCRIPTION:Reminder
END:VALARM
END:VEVENT
END:VCALENDAR
