BEGIN:VCALENDAR
VERSION:2.0
METHOD:PUBLISH
CALSCALE:GREGORIAN
BEGIN:VEVENT
UID:b908d714-fc77-4610-b3dd-ab5246345f2e
SEQUENCE:0
CLASS:PUBLIC
PRIORITY:5
DTSTAMP:20260423T155003Z
CREATED:20260423T155003Z
DTSTART:20251017T150000Z
DTEND:20251020T170000Z
SUMMARY:Visites du Vendredi 17/10 au Lundi 20/10 de Lucienne Hélène LARRIEU
LOCATION:Funérarium du Marensin, 10 rue Jean Baptiste LESBATS, 40550, LEON
BEGIN:VALARM
TRIGGER:-PT30M
ACTION:DISPLAY
DESCRIPTION:Reminder
END:VALARM
END:VEVENT
END:VCALENDAR
