BEGIN:VCALENDAR
VERSION:2.0
METHOD:PUBLISH
CALSCALE:GREGORIAN
BEGIN:VEVENT
UID:6070222c-45a2-4687-af4b-51883dd9f83b
SEQUENCE:0
CLASS:PUBLIC
PRIORITY:5
DTSTAMP:20260424T014503Z
CREATED:20260424T014503Z
DTSTART:20251021T103000Z
DTEND:20251014T113000Z
SUMMARY:La Cérémonie Religieuse de Lucienne Hélène LARRIEU
LOCATION:Eglise Bourg de Vielle, 40560, VIELLE SAINT GIRONS
BEGIN:VALARM
TRIGGER:-PT30M
ACTION:DISPLAY
DESCRIPTION:Reminder
END:VALARM
END:VEVENT
END:VCALENDAR
