BEGIN:VCALENDAR
VERSION:2.0
METHOD:PUBLISH
CALSCALE:GREGORIAN
BEGIN:VEVENT
UID:ea2814a6-ec93-44cd-ae05-ec18a672e6e7
SEQUENCE:0
CLASS:PUBLIC
PRIORITY:5
DTSTAMP:20260422T202451Z
CREATED:20260422T202451Z
DTSTART:20251020T150000Z
SUMMARY:Cérémonie Civile de Edith NICAISE
LOCATION:CIMETIERE MONSEMPRON , 47500 , MONSEMPRON-LIBOS , France
BEGIN:VALARM
TRIGGER:-PT30M
ACTION:DISPLAY
DESCRIPTION:Reminder
END:VALARM
END:VEVENT
END:VCALENDAR
