BEGIN:VCALENDAR
VERSION:2.0
METHOD:PUBLISH
CALSCALE:GREGORIAN
BEGIN:VEVENT
UID:cb63b3bc-7fc1-498e-8fa8-93466dc287ac
SEQUENCE:0
CLASS:PUBLIC
PRIORITY:5
DTSTAMP:20260424T194914Z
CREATED:20260424T194914Z
DTSTART:20251020T150000Z
SUMMARY:Inhumation de Edith NICAISE
LOCATION:CIMETIERE MONSEMPRON , 47500 , MONSEMPRON-LIBOS , France
BEGIN:VALARM
TRIGGER:-PT30M
ACTION:DISPLAY
DESCRIPTION:Reminder
END:VALARM
END:VEVENT
END:VCALENDAR
