BEGIN:VCALENDAR
VERSION:2.0
METHOD:PUBLISH
CALSCALE:GREGORIAN
BEGIN:VEVENT
UID:350216e9-cc85-4349-b263-52c831d55035
SEQUENCE:0
CLASS:PUBLIC
PRIORITY:5
DTSTAMP:20260422T180450Z
CREATED:20260422T180450Z
DTSTART:20251017T143000Z
SUMMARY:Service religieux de Juliette KUENHEN
LOCATION:rue Principale, Eglise de BOURSEVILLE, 80130, BOURSEVILLE
BEGIN:VALARM
TRIGGER:-PT30M
ACTION:DISPLAY
DESCRIPTION:Reminder
END:VALARM
END:VEVENT
END:VCALENDAR
