BEGIN:VCALENDAR
VERSION:2.0
METHOD:PUBLISH
CALSCALE:GREGORIAN
BEGIN:VEVENT
UID:4faddeb2-6c59-4523-87fd-11f83ff8c729
SEQUENCE:0
CLASS:PUBLIC
PRIORITY:5
DTSTAMP:20260422T180451Z
CREATED:20260422T180451Z
DTSTART:20251017T154500Z
SUMMARY:Inhumation de Juliette KUENHEN
LOCATION:Cimetière de BOURSEVILLE, 80130, BOURSEVILLE
BEGIN:VALARM
TRIGGER:-PT30M
ACTION:DISPLAY
DESCRIPTION:Reminder
END:VALARM
END:VEVENT
END:VCALENDAR
