BEGIN:VCALENDAR
VERSION:2.0
METHOD:PUBLISH
CALSCALE:GREGORIAN
BEGIN:VEVENT
UID:4824dfbd-2614-4a7c-9159-fbb55730fe9f
SEQUENCE:0
CLASS:PUBLIC
PRIORITY:5
DTSTAMP:20260421T193001Z
CREATED:20260421T193001Z
DTSTART:20251020T150000Z
SUMMARY:Crémation de Pierre LAPORTE
LOCATION:CRÉMATORIUM DE TREBES Z.A DE SAUTES , Rue du commerce , 11800 , TREBES , France
BEGIN:VALARM
TRIGGER:-PT30M
ACTION:DISPLAY
DESCRIPTION:Reminder
END:VALARM
END:VEVENT
END:VCALENDAR
