BEGIN:VCALENDAR
VERSION:2.0
METHOD:PUBLISH
CALSCALE:GREGORIAN
BEGIN:VEVENT
UID:45ab229a-4bd1-4d88-899c-b70db8b40b2a
SEQUENCE:0
CLASS:PUBLIC
PRIORITY:5
DTSTAMP:20260421T165357Z
CREATED:20260421T165357Z
DTSTART:20251016T100000Z
SUMMARY:Présentation en salon de André NEBOUT
LOCATION:FUNÉRARIUM LABORDE LE TEMPLE-SUR-LOT Charrière , 47110 , LE TEMPLE-SUR-LOT , France
BEGIN:VALARM
TRIGGER:-PT30M
ACTION:DISPLAY
DESCRIPTION:Reminder
END:VALARM
END:VEVENT
END:VCALENDAR
